BEGIN:VCALENDAR
VERSION:2.0
PRODID:-//Ida-Virumaa Omavalitsuste Liit - ECPv6.15.20//NONSGML v1.0//EN
CALSCALE:GREGORIAN
METHOD:PUBLISH
X-ORIGINAL-URL:https://ivol.ee
X-WR-CALDESC:Events for Ida-Virumaa Omavalitsuste Liit
REFRESH-INTERVAL;VALUE=DURATION:PT1H
X-Robots-Tag:noindex
X-PUBLISHED-TTL:PT1H
BEGIN:VTIMEZONE
TZID:Europe/Tallinn
BEGIN:DAYLIGHT
TZOFFSETFROM:+0200
TZOFFSETTO:+0300
TZNAME:EEST
DTSTART:20250330T010000
END:DAYLIGHT
BEGIN:STANDARD
TZOFFSETFROM:+0300
TZOFFSETTO:+0200
TZNAME:EET
DTSTART:20251026T010000
END:STANDARD
BEGIN:DAYLIGHT
TZOFFSETFROM:+0200
TZOFFSETTO:+0300
TZNAME:EEST
DTSTART:20260329T010000
END:DAYLIGHT
BEGIN:STANDARD
TZOFFSETFROM:+0300
TZOFFSETTO:+0200
TZNAME:EET
DTSTART:20261025T010000
END:STANDARD
BEGIN:DAYLIGHT
TZOFFSETFROM:+0200
TZOFFSETTO:+0300
TZNAME:EEST
DTSTART:20270328T010000
END:DAYLIGHT
BEGIN:STANDARD
TZOFFSETFROM:+0300
TZOFFSETTO:+0200
TZNAME:EET
DTSTART:20271031T010000
END:STANDARD
END:VTIMEZONE
BEGIN:VEVENT
DTSTART;TZID=Europe/Tallinn:20260302T100000
DTEND;TZID=Europe/Tallinn:20260302T160000
DTSTAMP:20260425T150514
CREATED:20260216T125537Z
LAST-MODIFIED:20260216T131932Z
UID:3112-1772445600-1772467200@ivol.ee
SUMMARY:Piiriüleste väljakutsete ja koostöövõimaluste kaardistamine järgmiseks programmiperioodiks (2028-2034)
DESCRIPTION:Head koostööpartnerid! \nKutsume Teid osalema töötoas\, mille eesmärk on ühiselt arutada ja kaardistada järgmise programmperioodi (2028–2034) piiriülesed väljakutseid\, arenguvõimalusi ja koostöötegevusi. \nTöötoa fookus on mõttevahetusel ja ideekorjel\, milliseid väljakutseid on mõistlik ja mõjus lahendada koostöös teiste riikide või nende regioonidega ning milliseid tegevusi peaks koostöös teiste riikide organisatsioonidega ette võtma. \nTöötoas keskendume täpsemalt Interreg Eesti-Läti\, Kesk-Läänemere ja Läänemere piirkonna programmide piirkondadele järgmistes teemavaldkondades: \n\nMajandus\nKeskkond ja kliima\nSäilenõtkus (võime saada hakkama muutuste ja tagasilöökidega ning neist taastuda\, st kohanemisvõimet\, kriisitaluvust\, toimetulekut pingelistes ja rasketes olukordades)\nPiiriülesed avalikud teenused\n\n Sihtgrupp: piirkondade arendusorganisatsioonid (MAROd\, MAKid\, OVLid)\, suuremad linnad\, valdkondlikud katusorganisatsioonid\, ministeeriumid. \nOotame Teid osalema töötoas eeskätt oma piirkonna või valdkonna arendaja rollis – et tuua lauale strateegiline vaade\, vajadused ning ideed piiriüleste koostöösuundade kohta nimetatud valdkondades. \n Aeg ja koht: Töötuba toimub 2. märtsil ajavahemikus kell 10.00 – 16.00 aadressil Tallinn\, Suur-Ameerika 1 (ministeeriumide ühishoone). \n Registreerimine:  töötoas osalemiseks palume Teil registreerida hiljemalt 20. veebruariks veebilingi kaudu. \n! Käesolev töötuba on esmaseks mõtete\, ideede ja koostöövajaduste kaardistuseks. Edaspidi järgnevad programmide poolt korraldatavad kaasamisüritused\, kuhu on oodatud osalema laiem ring organisatsioone. \n Lisainfo: etc@agri.ee; tel 6113 108 Riina Nurmsaar
URL:https://ivol.ee/sundmus/piiriuleste-valjakutsete-ja-koostoovoimaluste-kaardistamine-jargmiseks-programmiperioodiks-2028-2034/
LOCATION:Teams
CATEGORIES:Projektid
ATTACH;FMTTYPE=image/png:https://ivol.ee/wp-content/uploads/2026/02/map_programmes.png
END:VEVENT
BEGIN:VEVENT
DTSTART;TZID=Europe/Tallinn:20260409T090000
DTEND;TZID=Europe/Tallinn:20260409T160000
DTSTAMP:20260425T150514
CREATED:20260407T084047Z
LAST-MODIFIED:20260407T084206Z
UID:3989-1775725200-1775750400@ivol.ee
SUMMARY:NGTS meeskonnaväev
DESCRIPTION:Noortegarantii tugisüsteemi koostööpäev meeskonnaga.
URL:https://ivol.ee/sundmus/ngts-meeskonnavaev/
LOCATION:Ida-Virumaa Omavalitsuste Liit\, Keskväljak 4\, Jõhvi
CATEGORIES:Projektid
ATTACH;FMTTYPE=image/jpeg:https://ivol.ee/wp-content/uploads/2026/04/IMG_5776.jpg
END:VEVENT
BEGIN:VEVENT
DTSTART;TZID=Europe/Tallinn:20260421T100000
DTEND;TZID=Europe/Tallinn:20260421T110000
DTSTAMP:20260425T150514
CREATED:20260407T090738Z
LAST-MODIFIED:20260407T090738Z
UID:4022-1776765600-1776769200@ivol.ee
SUMMARY:NGTS koordinaatorite arutelu
DESCRIPTION:
URL:https://ivol.ee/sundmus/ngts-koordinaatorite-arutelu/
LOCATION:Teams
CATEGORIES:Projektid
ATTACH;FMTTYPE=image/png:https://ivol.ee/wp-content/uploads/2026/04/5_SKA_NGTS_noortega-tegelev-spets.png
END:VEVENT
BEGIN:VEVENT
DTSTART;TZID=Europe/Tallinn:20260429T100000
DTEND;TZID=Europe/Tallinn:20260430T170000
DTSTAMP:20260425T150514
CREATED:20260407T083318Z
LAST-MODIFIED:20260407T083318Z
UID:3982-1777456800-1777568400@ivol.ee
SUMMARY:Maakondlike NGTS koordinaatorite seminar
DESCRIPTION:Maakondlike NGTS koordinaatorite esimene füüsiline kohtumine 2026. aastal toimub Saaremaal\, Meri SPA hotellis 29.-30.aprill 2026. \nAlustame kogunemisega 29.aprillil kell 10.30 ja sisulise tööga kell 11. Kohtumise lõpetame 30. aprillil kell 14.00. \nOrienteeruv ajakava (ajakavas võib tulla muudatusi kuid mitte lagus ja lõpu aegades) \n\n29.04 \n10:30–11:00 Saabumine ja hommikukohv (kogunemine)\n11:00–12:30 Tööblokk I\n12:30–12:45 Kohvipaus\n12:45–13:45 Tööblokk II\n13:45–14:45 Lõuna (1 tund)\n14:45–16:00 Tööblokk III\n16:00–16:15 Kohvipaus\n16:15–17:30 Tööblokk IV\n17:30–18:00 Päeva kokkuvõte\n30. aprill \n09:00–09:15 Kogunemine\n09:15–10:30 Tööblokk I\n10:30–10:45 Kohvipaus\n10:45–12:00 Tööblokk II\n12:00–13:00 Lõuna (1 tund)\n13:00–14:00 Lõpetamine
URL:https://ivol.ee/sundmus/maakondlike-ngts-koordinaatorite-seminar/
LOCATION:Meri Spa Hotell Kuressaare\, Kuressaare\, Saaremaa\, Estonia
CATEGORIES:Projektid
END:VEVENT
END:VCALENDAR