BEGIN:VCALENDAR
VERSION:2.0
PRODID:-//Ida-Virumaa Omavalitsuste Liit - ECPv6.15.20//NONSGML v1.0//EN
CALSCALE:GREGORIAN
METHOD:PUBLISH
X-WR-CALNAME:Ida-Virumaa Omavalitsuste Liit
X-ORIGINAL-URL:https://ivol.ee
X-WR-CALDESC:Events for Ida-Virumaa Omavalitsuste Liit
REFRESH-INTERVAL;VALUE=DURATION:PT1H
X-Robots-Tag:noindex
X-PUBLISHED-TTL:PT1H
BEGIN:VTIMEZONE
TZID:Europe/Tallinn
BEGIN:DAYLIGHT
TZOFFSETFROM:+0200
TZOFFSETTO:+0300
TZNAME:EEST
DTSTART:20250330T010000
END:DAYLIGHT
BEGIN:STANDARD
TZOFFSETFROM:+0300
TZOFFSETTO:+0200
TZNAME:EET
DTSTART:20251026T010000
END:STANDARD
BEGIN:DAYLIGHT
TZOFFSETFROM:+0200
TZOFFSETTO:+0300
TZNAME:EEST
DTSTART:20260329T010000
END:DAYLIGHT
BEGIN:STANDARD
TZOFFSETFROM:+0300
TZOFFSETTO:+0200
TZNAME:EET
DTSTART:20261025T010000
END:STANDARD
BEGIN:DAYLIGHT
TZOFFSETFROM:+0200
TZOFFSETTO:+0300
TZNAME:EEST
DTSTART:20270328T010000
END:DAYLIGHT
BEGIN:STANDARD
TZOFFSETFROM:+0300
TZOFFSETTO:+0200
TZNAME:EET
DTSTART:20271031T010000
END:STANDARD
END:VTIMEZONE
BEGIN:VEVENT
DTSTART;TZID=Europe/Tallinn:20260320T090000
DTEND;TZID=Europe/Tallinn:20260320T100000
DTSTAMP:20260420T013419
CREATED:20260309T094105Z
LAST-MODIFIED:20260309T094105Z
UID:3595-1773997200-1774000800@ivol.ee
SUMMARY:Ida-Virumaa Omavalitsuste Liidu üldkoosolek
DESCRIPTION:
URL:https://ivol.ee/sundmus/ida-virumaa-omavalitsuste-liidu-uldkoosolek/
LOCATION:Keskväljak 4 koosolekute ruum 3\, Keskväljak 4\, Jõhvi\, Ida-Viru maakond\, 42319\, Estonia
CATEGORIES:juhtimine
END:VEVENT
END:VCALENDAR